BEGIN:VCALENDAR
VERSION:2.0
PRODID:-// - ECPv4.6.5//NONSGML v1.0//EN
CALSCALE:GREGORIAN
METHOD:PUBLISH
X-WR-CALNAME:
X-ORIGINAL-URL:http://www.associationscenaristes.be
X-WR-CALDESC:Events for 
BEGIN:VEVENT
DTSTART;TZID=UTC+1:20200916T183000
DTEND;TZID=UTC+1:20200916T213000
DTSTAMP:20260423T225423
CREATED:20200902T134510Z
LAST-MODIFIED:20200902T134510Z
UID:3736-1600281000-1600291800@www.associationscenaristes.be
SUMMARY:Assemblée générale en ligne le 16 septembre 18h30
DESCRIPTION:La prochaine Assemblée Générale de l’ASA se déroulera le mercredi 16 septembre à 18h30. \n  \nOutre la présentation de notre bilan moral et de notre bilan financier\, nous devrons procéder à l’élection de nouveaux administrateurs. Cinq postes sont à pourvoir et un mandat à valider. \n  \nLes candidats pour ces 5 postes sont : \n\nRaphael Baudet\nRobin Fizet-Dollo\nEly Chevillot\nLaurent Denis (sortant)\nGilles de Voghel\nNicolas Van Ruychevelt\nAnouchka Walewyk\n\n  \nIl vous sera aussi demandé de valider le mandat d’Aurélie Wijnants qui a remplacé cette année Carine Zimmerlin au sein de notre CA. \nVous pourrez lire les CVs et les lettres de motivation des nouveaux candidats en cliquant sur leurs noms. \nNous vous rappelons que seuls les membres effectifs en ordre de cotisation et présents lors de l’AG ont le droit de vote. Conformément aux statuts\, les membres effectifs sont toutes personnes physiques auteurs scénaristes d’au moins une œuvre sonore et/ou audiovisuelle réalisée et diffusée\, agréés par le CA. Pour les membres ne pouvant être présents\, il est possible de faire une procuration à un membre présent lors de l’AG (avec un document signé l’attestant). \nPour se mettre en ordre de cotisation: il suffit de payer 30 euros pour les membres émergents ou 60 euros pour les professionnels sur le compte de l’Association des Scénaristes de l’Audiovisuel (ASA) avec votre nom et la mention « cotisation » en communication. \nIBAN : BE61 0012 5383 3417\nBIC : GEBA BE BB \nRéservations obligatoire : Exceptionnellement\, notre Assemblée Générale aura lieu en ligne (via Zoom). En effet ; les jauges des salles de la MEDAA liées à la crise du coronavirus ne nous permettant pas de nous rassembler en présentiel. Toute personne souhaitant participer à notre AG doit dès lors s’inscrire préalablement sur newsletter@associationscenaristes.be afin de recevoir le lien de la réunion. \nDate et heure : mercredi 16 septembre 2020\, 18h30 \n
URL:http://www.associationscenaristes.be/event/assemblee-generale-en-ligne-le-16-septembre-18h30/
ATTACH;FMTTYPE=image/jpeg:http://www.associationscenaristes.be/wp-content/uploads/2016/03/arton4146-1450x800-c-1.jpg
END:VEVENT
END:VCALENDAR