BEGIN:VCALENDAR
VERSION:2.0
PRODID:-// - ECPv4.6.5//NONSGML v1.0//EN
CALSCALE:GREGORIAN
METHOD:PUBLISH
X-WR-CALNAME:
X-ORIGINAL-URL:http://www.associationscenaristes.be
X-WR-CALDESC:Events for 
BEGIN:VEVENT
DTSTART;TZID=UTC+1:20220912T080000
DTEND;TZID=UTC+1:20220916T170000
DTSTAMP:20260425T110048
CREATED:20220817T061400Z
LAST-MODIFIED:20220817T061400Z
UID:4154-1662969600-1663347600@www.associationscenaristes.be
SUMMARY:ATELIER D’ECRITURE D’UN COURT METRAGE ASA/SABAM
DESCRIPTION:  \nL’ASA (Association des Scénaristes de l’Audiovisuel)\, en partenariat avec la Sabam\, vous propose un atelier d’écriture autour du court métrage. \n  \nDéroulement de l’atelier  \nLa première journée de l’atelier est principalement consacrée à une approche théorique de l’écriture scénaristique. La définition du scénario\, la structure du récit\, la définition de la scène ainsi que l’écriture du scénario à proprement parler sont abordés. Approche théorique fondée sur des extraits de films afin de rendre concrète la théorie. \nDès la fin de la première journée\, les participants sont invités à réfléchir à une idée de scénario de court métrage pour le lendemain\, en se fondant sur les éléments appris durant l’atelier. \nLes quatre derniers jours sont quant à eux consacrés à l’écriture du court métrage avec le soutien direct de l’animateur-scénariste\, ce qui permet à chaque participant de rapidement orienter son récit dans la bonne direction. \nLes étapes classiques de l’écriture sont ainsi suivies : \n– définition claire de l’histoire en quelques lignes \n– rédaction du traitement qui reprend la structure du récit scène par scène \n– rédaction de la continuité dialoguée \nLes participants terminent ainsi la semaine de formation avec le scénario d’un court métrage en poche. \n  \nInformations pratiques \nDates : du 12 au 16 septembre 2022 \nHoraires : de 10h à 17h \nPrix : 300 Euros \nLieu : à la Sabam\, rue d’Arlon 75-77\, 1040 Bruxelles \nL’atelier est limité à dix participants. Les places étant limitées\, l’inscription sera définitivement acquise dès le versement du montant de l’inscription sur le compte de : \nBE09 0637 1509 5957 \nPour toutes questions ou inscription\, merci de vous adresser à Laurent Denis via email : laurentd@skynet.be \nL’atelier est éligible comme formation reconnue par la Fédération Wallonie-Bruxelles. Le Centre du Cinéma et de l’Audiovisuel peut ainsi intervenir dans votre inscription pour maximum 50% des frais. Plus de renseignements sur les modalités d’intervention sur : \nhttp://www.audiovisuel.cfwb.be/index.php?id=avm_formation \n  \nL’animateur en quelques mots \nNé le 30 décembre 1972\, Laurent Denis est scénariste\, producteur et enseignant. Il termine ses études d’écriture de scénario à l’Université Libre de Bruxelles en 1995 où il enseigne désormais depuis 8 ans. En 2002\, il obtient le Trophée du premier scénario du CNC pour le long métrage Les fourmis rouges\, coécrit avec le réalisateur Stéphan Carpiaux. Il a également scénarisé une dizaine de courts métrages portés à l’écran\, ainsi que trois longs métrages. Partageant son temps entre l’écriture et la production au sein de Cookies Films\, il travaille actuellement sur les séries Practical Shooting réalisée par Gary Seghers et I can’t Get No Sleep de Jean-Julien Collette\, ainsi que sur le projet de long métrage « 17 février 1964 » en collaboration avec Hicham Slaoui et Reda Chebchoubi. \n
URL:http://www.associationscenaristes.be/event/atelier-decriture-dun-court-metrage-asa-sabam/
ATTACH;FMTTYPE=image/png:http://www.associationscenaristes.be/wp-content/uploads/2022/08/image.png
END:VEVENT
BEGIN:VEVENT
DTSTART;VALUE=DATE:20220915
DTEND;VALUE=DATE:20220916
DTSTAMP:20260425T110048
CREATED:20220727T075913Z
LAST-MODIFIED:20220727T075913Z
UID:4149-1663200000-1663286399@www.associationscenaristes.be
SUMMARY:SERIESMAKERS 2022
DESCRIPTION:\n\n\nLe festival Series Mania & BETA Group se sont associés pour créer une nouvelle initiative créative : SERIESMAKERS 2022  \nSERIESMAKERS est un programme qui a récemment lancé sa première édition et ouvert son appel à candidatures. Il s’adresse aux réalisateurs de longs métrages du monde entier qui s’aventurent dans le monde des séries.  \nLes réalisateurs peuvent postuler en duo avec un scénariste ou un producteur. \n\nLes duos de réalisateur-auteur ou réalisateur-producteur peuvent postuler avec un projet de série en début de développement. \n\n\nLe programme offre 3 bourses de développement pour un total de 120.000 €.\n\n\nLes dix duos sélectionnés auront la possibilité de participer à deux ateliers en ligne de trois jours\, guidés par des personnalités de la série et du cinéma de renom telles que Marti Noxon (Sharp Objects\, UnReal)\, Michael Hirst (Vikings\, The Tudors)\, Agnieszka Holland (House of Cards\, The Killing) ou Hagai Levi (En Thérapie\, The Affair). Les mentors renommés Felipe Braga\, Janine Jackowski\, Isabelle Lindberg Pechou et Ronit Weiss-Berkowitz\, aideront les participants à ce programme à développer un pitch deck complet de leurs projets de séries TV.\n\n\nLa date limite de candidature est le 15 septembre 2022.  \n\nAu travail ! \n\n\n\n
URL:http://www.associationscenaristes.be/event/seriesmakers-2022/
ATTACH;FMTTYPE=image/png:http://www.associationscenaristes.be/wp-content/uploads/2022/07/Capture.png
END:VEVENT
END:VCALENDAR