BEGIN:VCALENDAR
VERSION:2.0
PRODID:-// - ECPv4.6.5//NONSGML v1.0//EN
CALSCALE:GREGORIAN
METHOD:PUBLISH
X-WR-CALNAME:
X-ORIGINAL-URL:http://www.associationscenaristes.be
X-WR-CALDESC:Events for 
BEGIN:VEVENT
DTSTART;TZID=UTC+1:20221104T143000
DTEND;TZID=UTC+1:20221104T180000
DTSTAMP:20260422T001553
CREATED:20221021T131345Z
LAST-MODIFIED:20221021T133330Z
UID:4164-1667572200-1667584800@www.associationscenaristes.be
SUMMARY:Les Rencontres Professionnelles - Festival International du Film de Comédie de Liège
DESCRIPTION:Les inscriptions pour les Rencontres Professionnelles au Festival International du Film de Comédie de Liège sont ouvertes: https://www.fifcl.be/event/les-rencontres-professionnelles/ \nFace au manque de comédies en Belgique francophone\, existe-t-il un autre scénario ? \nEn 2021\, le Festival International du Film de Comédie de Liège lançait ses premières Rencontres Professionnelles en réunissant un panel d’auteurs\, cinéastes et responsables du financement public du cinéma autour d’un sujet brûlant : « Il est grand temps de prendre la comédie au sérieux ! » \n  \nL’une des conclusions de ces Rencontres pointait le manque flagrant\, en Belgique francophone\, de formations spécifiques au scénario humoristique. Dans l’élan de cette première initiative\, le FIFCL a trouvé\, avec le CinéComédies Lab de Lille\, un partenaire de choix : c’est notre compatriote Benoît Mariage qui est le Parrain de la nouvelle session de formation en cours\, donnée par Fadette Drouard. Les résultats seront présentés\, sous forme de pitch\, dans le cadre de la 7e Édition du Festival International du Film de Comédie de Liège ! Mais nous n’en resterons pas là… \n  \nDès 2023\, le CinéComédies Lab sera ouvert aux apprentis scénaristes wallons. Une opération ponctuelle dont nous sommes très fiers\, et que vient renforcer une opération d’envergure plus large. Nous avons voulu\, en effet\, établir un répertoire plus large des formations spécifiques au scénario accessibles en Belgique francophone. Le Centre du Cinéma de la Fédération Wallonie Bruxelles en reconnaît 46… dont 6 seulement sont dispensées par des formateurs belges. \n  \nS’il existe\, par ailleurs\, des sections « scénario » dans certaines universités et grandes écoles\,  combien de nouveaux scénaristes parviennent-ils à s’intégrer dans un marché peu accueillant ? Une étude récente de l’Observatoire Européen de l’Audiovisuel montre qu’en Europe\, parmi tous les scénaristes auteurs d’un film de long métrage en 2015\, seuls 37 %  ont écrit au moins un autre film depuis… Quels sont les obstacles à la survie et au développement des scénaristes chez nous ? \n  \nUn élément se détache : la précarité ! Peu ou mal payés par des producteurs qui doivent souvent assumer seuls les phases de développement des films\, les scénaristes sont rarement pris en compte parmi les dépenses financées par le Tax-Shelter. Ce dernier exclut régulièrement la préproduction de ses calculs. Comment remédier à cette situation ? Le nouveau Statut d’Artiste va-t-il résoudre une partie des problèmes ? \n  \nPour tenter de répondre à ces questions\, et apporter quelques pistes de solutions\, les Rencontres Professionnelles 2022 réuniront un panel représentatif de la profession\, des institutions de formation et du monde politique\, qui (re)découvriront la situation des scénaristes\, en Belgique et ailleurs. Soyez des nôtres ! \n  \nLieu :  \nSalle de l’auditorium de la Boverie  – Parc de la Boverie  à 4020 Liège \nProgramme :  \n14h30 : Accueil \n15h00 : Introduction \n15h05: Présentation du Ciné-Comédie Lab par Fadette Drouard \n15h20: Projection et présentation du constat de la thématique – Monsieur Philippe Reynaert \n15h30 : Débat en présence du Panel  – Modération par Monsieur Philippe Reynaert \n16h30 : Questions/Réponses du public \n17h00 : Verre et mignardises de l’amitié \n18h00 : Fin de l’évènement \nInscrivez-vous aux Rencontres Professionnelles ici: https://www.fifcl.be/event/les-rencontres-professionnelles/ \n  \n
URL:http://www.associationscenaristes.be/event/les-rencontres-professionnelles-festival-international-du-film-de-comedie-de-liege/
ATTACH;FMTTYPE=image/jpeg:http://www.associationscenaristes.be/wp-content/uploads/2022/10/BM3-PRINT-FIFCL_INVIT_RENC_PRO-©2022-V6-ok-copie.jpg
END:VEVENT
BEGIN:VEVENT
DTSTART;TZID=UTC+1:20221104T143000
DTEND;TZID=UTC+1:20221104T180000
DTSTAMP:20260422T001553
CREATED:20221026T133912Z
LAST-MODIFIED:20221026T133912Z
UID:4169-1667572200-1667584800@www.associationscenaristes.be
SUMMARY:ERRATUM: Les Rencontres Professionnelles - Festival du Film de Comédie de Liège
DESCRIPTION:Bonjour à tous.tes\, \nUne petite coquille s’est glissée dans le texte de notre dernière newsletter. Le CinéComédies Lab sera en effet ouvert aux scénaristes belges francophones\, et non exclusivement aux scénaristes wallons. Vous trouverez ci-dessous le texte corrigé\, ainsi que le panel des intervenants. \n \nFace au manque de comédies en Belgique francophone\, existe-t-il un autre scénario ? \n  \nEn 2021\, le Festival International du Film de Comédie de Liège lançait ses premières Rencontres Professionnelles en réunissant un panel d’auteurs\, cinéastes et responsables du financement public du cinéma autour d’un sujet brûlant : « Il est grand temps de prendre la comédie au sérieux ! » \n  \nL’une des conclusions de ces Rencontres pointait le manque flagrant\, en Belgique francophone\, de formations spécifiques au scénario humoristique. Dans l’élan de cette première initiative\, le FIFCL a trouvé\, avec le CinéComédies Lab de Lille\, un partenaire de choix : c’est notre compatriote Benoît Mariage qui est le Parrain de la nouvelle session de formation en cours\, donnée par Fadette Drouard. Les résultats seront présentés\, sous forme de pitch\, dans le cadre de la 7e Édition du Festival International du Film de Comédie de Liège ! Mais nous n’en resterons pas là… \n  \nDès 2023\, le CinéComédies Lab sera ouvert aux apprentis scénaristes belges francophones (et non pas exclusivement wallons). Une opération ponctuelle dont nous sommes très fiers\, et que vient renforcer une opération d’envergure plus large. Nous avons voulu\, en effet\, établir un répertoire plus large des formations spécifiques au scénario accessibles en Belgique francophone. Le Centre du Cinéma de la Fédération Wallonie Bruxelles en reconnaît 46… dont 6 seulement sont dispensées par des formateurs belges. \n  \nS’il existe\, par ailleurs\, des sections « scénario » dans certaines universités et grandes écoles\,  combien de nouveaux scénaristes parviennent-ils à s’intégrer dans un marché peu accueillant ? Une étude récente de l’Observatoire Européen de l’Audiovisuel montre qu’en Europe\, parmi tous les scénaristes auteurs d’un film de long métrage en 2015\, seuls 37 %  ont écrit au moins un autre film depuis… Quels sont les obstacles à la survie et au développement des scénaristes chez nous ? \n  \nUn élément se détache : la précarité ! Peu ou mal payés par des producteurs qui doivent souvent assumer seuls les phases de développement des films\, les scénaristes sont rarement pris en compte parmi les dépenses financées par le Tax-Shelter. Ce dernier exclut régulièrement la préproduction de ses calculs. Comment remédier à cette situation ? Le nouveau Statut d’Artiste va-t-il résoudre une partie des problèmes ? \n  \nPour tenter de répondre à ces questions\, et apporter quelques pistes de solutions\, les Rencontres Professionnelles 2022 réuniront un panel représentatif de la profession\, des institutions de formation et du monde politique\, qui (re)découvriront la situation des scénaristes\, en Belgique et ailleurs. Soyez des nôtres ! \n  \n  \n  \n  \n  \n  \n  \n  \n  \n  \n  \n  \n  \n  \n  \n  \n  \n  \n
URL:http://www.associationscenaristes.be/event/erratum-les-rencontres-professionnelles-festival-du-film-de-comedie-de-liege/
ATTACH;FMTTYPE=image/jpeg:http://www.associationscenaristes.be/wp-content/uploads/2022/10/BM3-PRINT-FIFCL_INVIT_RENC_PRO-©2022-V6-ok-1-1.jpg
END:VEVENT
END:VCALENDAR