BEGIN:VCALENDAR
VERSION:2.0
PRODID:-// - ECPv4.6.5//NONSGML v1.0//EN
CALSCALE:GREGORIAN
METHOD:PUBLISH
X-WR-CALNAME:
X-ORIGINAL-URL:http://www.associationscenaristes.be
X-WR-CALDESC:Events for 
BEGIN:VEVENT
DTSTART;TZID=UTC+1:20221205T094500
DTEND;TZID=UTC+1:20221205T130000
DTSTAMP:20260419T225332
CREATED:20221123T115857Z
LAST-MODIFIED:20221123T115857Z
UID:4186-1670233500-1670245200@www.associationscenaristes.be
SUMMARY:Masterclass - Danny Boon: l'écriture de comédies grand public
DESCRIPTION:Chers membre de l’ASA\, \nDans le cadre des initiatives du Centre du Cinéma et de l’Audiovisuel destinées à diversifier les productions belges francophones\, Dany Boon viendra présenter en exclusivité La Vie pour de vrai\, son prochain film actuellement en postproduction\, le lundi 5 décembre au Cinéma Vendôme pour une projection unique d’une version de travail. \nCette projection servira de base à une masterclass inédite sur l’écriture de comédies grand public par l’acteur\, humoriste\, réalisateur\, producteur et surtout scénariste à succès qu’est Dany Boon (Bienvenue chez les Ch’tis\, Rien à déclarer\, Supercondriaque\, Raid dingue\, La Ch’tite Famille\, 8 Rue de l’Humanité…). \nCette masterclass\, animée par la journaliste Aurore Engelen\, sera notamment l’occasion d’aborder les spécificités d’écriture de la comédie grâce à ce film en cours de montage. \nVu la nature de l’événement\, qui inclut notamment la projection d’un film en cours de montage\, il est réservé exclusivement aux scénaristes et étudiants en cinéma. D’avance merci pour votre compréhension. \nAu programme: 9h45: Accueil \n10h: Projection de La vie pour de vrai \n12h: Masterclass \nIntéressé.e.s? Inscrivez-vous gratuitement avant le 28 novembre 2022 ici: https://audiovisuel.cfwb.be/actualite/news/masterclass-dany-boon-lecriture-de-comedies-grand-public/. \n  \n
URL:http://www.associationscenaristes.be/event/masterclass-danny-boon-lecriture-de-comedies-grand-public/
ATTACH;FMTTYPE=image/jpeg:http://www.associationscenaristes.be/wp-content/uploads/2022/11/Masterclass_Dany_Boon.jpg
END:VEVENT
END:VCALENDAR