BEGIN:VCALENDAR
VERSION:2.0
PRODID:-// - ECPv4.6.5//NONSGML v1.0//EN
CALSCALE:GREGORIAN
METHOD:PUBLISH
X-WR-CALNAME:
X-ORIGINAL-URL:http://www.associationscenaristes.be
X-WR-CALDESC:Events for 
BEGIN:VEVENT
DTSTART;VALUE=DATE:20221216
DTEND;VALUE=DATE:20221217
DTSTAMP:20260419T224301
CREATED:20221216T125633Z
LAST-MODIFIED:20221216T125633Z
UID:4200-1671148800-1671235199@www.associationscenaristes.be
SUMMARY:Accréditez-vous au Brussels Short Film Festival à tarif préférentiel !
DESCRIPTION:Bonjour à tous.tes\, \nEn tant que membres de l’ASA\, accréditez-vous au BSFF et bénéficiez d’une réduction exclusive sur les accréditations : \n* -10€ sur l’accréditation premium \n50€ 40€ jusqu’au 20 mars \n55€ 45€ du 21 mars au 13 avril inclus \n65€ 55€ à partir du 14 avril \n\n* -5€ sur l’accréditation classique \n25€ 20€ jusqu’au 20 mars \n30€ 25€ du 21 mars au 13 avril inclus \n40€ 35€ à partir du 14 avril \nRetrouvez le détail des avantages offerts par les accréditations sur le site internet du festival. \nAttention\, la décision d’octroi de l’accréditation est placée sous la seule responsabilité du Festival. \nComment bénéficier de l’offre ? \n> Rendez-vous sur le site du Festival et complétez le formulaire en ligne : https://bsff.be/industry-2/bsff-2023-accreditation/ \n> Dans le champ « Company / Société / Bedrijf »\, mentionnez que vous venez de la part de l’ASA. \nAprès analyse de votre demande\, vous recevrez un email de confirmation vous indiquant si votre demande a été acceptée ou rejetée. Le payement vous sera demandé uniquement si votre demande a été acceptée. \nPour pouvoir bénéficier de cette offre\, il faut être affilié.e à l’ASA et\, pour devenir membre\, c’est par ici: http://www.associationscenaristes.be/saffilier/.  \nNe manquez pas cette offre! \n
URL:http://www.associationscenaristes.be/event/accreditez-vous-au-brussels-short-film-festival-a-tarif-preferentiel/
ATTACH;FMTTYPE=image/png:http://www.associationscenaristes.be/wp-content/uploads/2022/12/Logo-initiales-BSFF-2023.png
END:VEVENT
END:VCALENDAR