BEGIN:VCALENDAR
VERSION:2.0
PRODID:-// - ECPv4.6.5//NONSGML v1.0//EN
CALSCALE:GREGORIAN
METHOD:PUBLISH
X-WR-CALNAME:
X-ORIGINAL-URL:http://www.associationscenaristes.be
X-WR-CALDESC:Events for 
BEGIN:VEVENT
DTSTART;VALUE=DATE:20221231
DTEND;VALUE=DATE:20230101
DTSTAMP:20260419T225042
CREATED:20220711T171708Z
LAST-MODIFIED:20220711T171708Z
UID:4142-1672444800-1672531199@www.associationscenaristes.be
SUMMARY:L'ASA vous offre une réduction pour votre abonnement à La Cinetek
DESCRIPTION: \n10 juillet : Machins / Machines \n\nEn juillet\, LaCinetek s’occupe de machins et de machines !De l’électroménager aux équipements industriels de la vie courante\, jusqu’aux robots de science fiction\, entrez dans des univers où l’appareil du cinéma rencontre les outils – réels ou rêvés – de la modernité. 10 films résolument inventifs et réflexifs – pleins de gadgets en tous genres\, d’entités hybrides et de décors truqués – pour réinterroger les liens de l’humain à la technique\nLa Sélection du mois de LaCinetek propose chaque mois 10 films\, choisis autour d’une thématique\, et renouvelés tous les 10 du mois.\n\nListe de films : \nMon Oncle de Jacques TatiSaute ma ville de Chantal Akerman\nTerminator de James CameronShampoo de Hal AshbyLes Temps modernes de Charlie ChaplinMetropolis de Fritz LangLe Jouet de Francis VeberUn mauvais pantalon de Nick ParkDeux ou trois choses que je sais d’elle de Jean-Luc GodardCe vieux rêve qui bouge d’Alain Guiraudie\n\n\n\nLes membres de l’ASA bénéficient de l’abonnement annuel à la Sélection du mois à 25€ au lieu de 30€ avec le code ASA22.\n\n \nPour bénéficier de cet avantage\, il faudra\, sur la page Sélection du mois\, ajouter l’abonnement annuel à votre panier et renseigner le code dans la section « Vous avez un code promo ? ». \n\nCodes valables jusqu’au 31/12/22.\n\n\n\n\nProfitez-en vite !\n
URL:http://www.associationscenaristes.be/event/lasa-vous-offre-une-reduction-pour-votre-abonnement-a-la-cinetek/
ATTACH;FMTTYPE=image/png:http://www.associationscenaristes.be/wp-content/uploads/2022/07/Capture-d’écran-2022-06-28-à-10.45.59.png
END:VEVENT
END:VCALENDAR