BEGIN:VCALENDAR
VERSION:2.0
PRODID:-// - ECPv4.6.5//NONSGML v1.0//EN
CALSCALE:GREGORIAN
METHOD:PUBLISH
X-WR-CALNAME:
X-ORIGINAL-URL:http://www.associationscenaristes.be
X-WR-CALDESC:Events for 
BEGIN:VEVENT
DTSTART;VALUE=DATE:20230101
DTEND;VALUE=DATE:20230102
DTSTAMP:20260419T213246
CREATED:20221002T180519Z
LAST-MODIFIED:20221002T180519Z
UID:4159-1672531200-1672617599@www.associationscenaristes.be
SUMMARY:L'ASA FAIT PEAU NEUVE
DESCRIPTION:Chers membres de l’ASA\,\n\nNous sommes actuellement en train de refondre notre site internet.\n\nObjectif : revenir avec la peau tirée et les pommettes saillantes en Janvier.\n\nPour ça\, nous avons besoin de vous. Et plus exactement de vos photos.\n\nNous souhaitons illustrer le site internet avec des photos de writing room. Post it\, laptops\, table de travail sont les bienvenues.\n\nEnvoyez-nous tous vos plus beaux dagueréotypes à : lesphotosdelasa@gmail.com\n\nPS. N’oubliez pas de nous accorder le droit de diffuser cette image dans le corps du mail.\n\nScénaristiquement votre\,\n\nL’ASA\n
URL:http://www.associationscenaristes.be/event/lasa-fait-peau-neuve/
ATTACH;FMTTYPE=image/jpeg:http://www.associationscenaristes.be/wp-content/uploads/2022/10/0x0.jpg
END:VEVENT
END:VCALENDAR