BEGIN:VCALENDAR
VERSION:2.0
PRODID:-// - ECPv4.6.5//NONSGML v1.0//EN
CALSCALE:GREGORIAN
METHOD:PUBLISH
X-WR-CALNAME:
X-ORIGINAL-URL:http://www.associationscenaristes.be
X-WR-CALDESC:Events for 
BEGIN:VEVENT
DTSTART;TZID=UTC+1:20230130T193000
DTEND;TZID=UTC+1:20230130T193000
DTSTAMP:20260419T213921
CREATED:20230119T155355Z
LAST-MODIFIED:20230119T155355Z
UID:4209-1675107000-1675107000@www.associationscenaristes.be
SUMMARY:« Mieux présenter son scénario » - Soirée animée par Vincent Guillemot
DESCRIPTION:Contrairement aux États-Unis\, il n’y a pas en Belgique de règles officielles concernant la présentation du scénario. \nSouvent reléguée à l’humeur du jour ou aux bonnes vieilles habitudes\, une présentation efficace est pourtant un outil précieux que tout scénariste devrait maitriser afin d’aider les lecteurs à mieux rentrer dans l’histoire\, mieux sentir le rythme\, mieux cerner les personnages. \nÀ l’occasion du Concours du Meilleur Scénario de Court-Métrage organisé chaque année par le Brussels Short Film Festival et l’ASA\, cette soirée animée par Vincent Guillemot aura pour objectif de rappeler les règles de base de la présentation du scénario à l’anglo-saxonne\, spécifiquement demandées à tous les participants du concours. \nPour aller plus loin\, nous verrons aussi une trentaine de techniques de présentation qui amélioreront non seulement l’esthétique de vos pages\, mais surtout la clarté de vos scènes et de vos choix dramatiques. \nEn illustrant par de nombreux exemples\, nous verrons : \n\ncomment accélérer le rythme de lecture ;\ncomment améliorer la rédaction de vos Intitulés de Scène\, Corps des Descriptions\, Corps des Dialogues et Didascalies ;\ncomment gérer l’introduction de nombreux personnages ;\ncomment présenter une conversation téléphonique ;\ncomment exprimer l’intériorité d’un personnage ;\ncomment utiliser au mieux les effets de ponctuation dans les dialogues ;\ncomment gérer les regards\, déplacements et les nombreux détails de jeu ;\ncomment faire sentir un découpage technique et des mouvements de caméra sans jamais insérer de terme technique ;\ncomment augmenter le plaisir de lecture.\n\nCette soirée est réservée aux membres de l’ASA en ordre de cotisation et sera\, comme à l’habitude\, suivie d’un drink. \nQuand ? le 30 janvier à 19h30. \nOù ? SACD\, rue du Prince Royal\, 87\, à 1050 Bruxelles. \nLes places étant limitées\, la réservation est obligatoire par mail à l’adresse de l’ASA: info.associationscenaristes@gmail.com.\nVenez nombreux.ses!\n
URL:http://www.associationscenaristes.be/event/mieux-presenter-son-scenario-soiree-animee-par-vincent-guillemot/
ATTACH;FMTTYPE=image/jpeg:http://www.associationscenaristes.be/wp-content/uploads/2023/01/istockphoto-1289188025-612x612.jpg
END:VEVENT
END:VCALENDAR