BEGIN:VCALENDAR
VERSION:2.0
PRODID:-// - ECPv4.6.5//NONSGML v1.0//EN
CALSCALE:GREGORIAN
METHOD:PUBLISH
X-WR-CALNAME:
X-ORIGINAL-URL:http://www.associationscenaristes.be
X-WR-CALDESC:Events for 
BEGIN:VEVENT
DTSTART;TZID=UTC+1:20230204T210000
DTEND;TZID=UTC+1:20230204T210000
DTSTAMP:20260419T202821
CREATED:20230116T123335Z
LAST-MODIFIED:20230116T123335Z
UID:4206-1675544400-1675544400@www.associationscenaristes.be
SUMMARY:Les Machins sont de retour!
DESCRIPTION:Les Machins\, dont l’ASA est partenaire\, are back in town! \nAprès 3 ans d’absence\, les petits prix du cinéma belge sont de retour le samedi 4 février pour leur 10e édition. \nAu programme: cérémonie décalée\, photocall\, concert\, DJ sets… \nEn 10 ans\, les Machins sont devenus un événement incontournable du cinéma belge\, réunissant cinéphiles\, étudiant·e·s et professionnel·le·s de l’industrie\, à l’occasion d’une remise de prix off\, décalée et un brin irrévérencieuse. \nLes Machins sont gratuits\, ouverts à tou·te·s et n’ont pas de dress code. \nÇa se passe au Reset (Rue De Ligne 8)\, à côté de la Gare Centrale\, de 21h à 4h! \nVenez nombreux·se·s! \n
URL:http://www.associationscenaristes.be/event/les-machins-sont-de-retour/
ATTACH;FMTTYPE=image/jpeg:http://www.associationscenaristes.be/wp-content/uploads/2023/01/20230111_CCA_Festival_Machin_du_Cinema_22_A3_PRINT_200dpi_PSOCoatedv3.jpg
END:VEVENT
END:VCALENDAR