BEGIN:VCALENDAR
VERSION:2.0
PRODID:-// - ECPv4.6.5//NONSGML v1.0//EN
CALSCALE:GREGORIAN
METHOD:PUBLISH
X-WR-CALNAME:
X-ORIGINAL-URL:http://www.associationscenaristes.be
X-WR-CALDESC:Events for 
BEGIN:VEVENT
DTSTART;TZID=UTC+1:20230225T133000
DTEND;TZID=UTC+1:20230225T153000
DTSTAMP:20260419T202944
CREATED:20230111T173137Z
LAST-MODIFIED:20230111T173137Z
UID:4203-1677331800-1677339000@www.associationscenaristes.be
SUMMARY:Futuranima 2023: Masterclass avec Jim Capobianco - Tarif préférentiel pour les membres de l'ASA
DESCRIPTION:L’ASA se réjouit de collaborer avec le Festival Anima\, aux côtés de la Scenaristengilde et du Vlaams Audiovisueel Fonds\, pour vous proposer une Masterclass avec Jim Capobianco\, dans le cadre des journées professionnelles de Futuranima. Ca se passe Festival Anima le 25 février\, de 13h30 à 15h30!  \nDeux heures passionnantes en perspective pour cette rencontre avec Jim Capobianco\, scénariste pour Disney\, Pixar\, et désormais aux commandes du long métrage The Inventor\, en cours de production. Découvrez les secrets d’écriture de classiques comme Le Roi Lion\, Vice-Versa ou encore Ratatouille\, un scénario nommé aux Oscars en 2008. Incontournable. \nAprès des études au réputé California Institute of Arts\, Jim Capobianco intègre les studios Walt Disney. Il fait ses armes sur des films comme Le Monde de Nemo ou Là-haut\, dont les succès contribuent à sa reconnaissance en tant que grand faiseur d’histoires. Il revient désormais à son premier amour\, Léonard de Vinci\, pour son premier long métrage. \nPetit plus? Les places sont à 15 euros\, au lieu de 20\, pour les membres de l’ASA! Pour pouvoir bénéficier du tarif préférentiel réservé aux membres de l’ASA\, envoyez-nous un mail à l’adresse info.associationscenaristes@gmail.com. \nSoyez des nôtres! \n
URL:http://www.associationscenaristes.be/event/futuranima-2023-masterclass-avec-jim-capobianco-tarif-preferentiel-pour-les-membres-de-lasa/
ATTACH;FMTTYPE=image/png:http://www.associationscenaristes.be/wp-content/uploads/2023/01/Masterclass_Jim.png
END:VEVENT
END:VCALENDAR