BEGIN:VCALENDAR
VERSION:2.0
PRODID:-// - ECPv4.6.5//NONSGML v1.0//EN
CALSCALE:GREGORIAN
METHOD:PUBLISH
X-WR-CALNAME:
X-ORIGINAL-URL:http://www.associationscenaristes.be
X-WR-CALDESC:Events for 
BEGIN:VEVENT
DTSTART;TZID=UTC+1:20230301T080000
DTEND;TZID=UTC+1:20230630T170000
DTSTAMP:20260419T165050
CREATED:20221029T135649Z
LAST-MODIFIED:20221029T135649Z
UID:4174-1677657600-1688144400@www.associationscenaristes.be
SUMMARY:Series Mania Institute: Eureka Series & Writers Campus- Spring 2023
DESCRIPTION:Bonjour à tous.tes\, \nLe Series Mania Institute\, initiative issue du Festival Séries Mania\, fait deux appels à candidatures\, pour son programme de formation Eureka Series et son programme professionnel Writers Campus. \nVous trouverez plus d’informations quant à ces deux programmes \,délivrés en anglais\, ci-dessous\, ainsi que sur les réseaux sociaux du Festival Séries Mania (Facebook\, LinkedIn et Twitter). \nN’hésitez donc pas à postuler si vous êtes intéressé.es! \nEureka Series (Call for application now opened) \nThis 10-week training course is dedicated to emerging television drama series writers and creative producers from Europe\, willing to develop their skills and knowledge about collaborative writing and the fast changing TV series industry. \nThrough theoretical courses\, workshops\, masterclasses and case studies\, the participants benefit from the knowledge and expertise of experienced European professionals to acquire skills on TV series writing such as defining a concept\, character and season development\, and understanding of European and international TV series ecosystems. \nEureka Series takes place from March to June 2023\, in Lille (France) and remotely\, and will be delivered entirely in English. \nThe deadline to apply is December 16th. \nWriters Campus (applications opening at the beginning of november) \nThis professional week-long workshop is open to writers and creative producers worldwide\, who have had at least one professional experience on a broadcast TV/digital series\, short or feature film broadcast\, and with a project in development. \n\n
URL:http://www.associationscenaristes.be/event/series-mania-institute-eureka-series-writers-campus-spring-2023/
ATTACH;FMTTYPE=image/png:http://www.associationscenaristes.be/wp-content/uploads/2022/10/mail.png
END:VEVENT
BEGIN:VEVENT
DTSTART;TZID=UTC+1:20230426T080000
DTEND;TZID=UTC+1:20230506T170000
DTSTAMP:20260419T165050
CREATED:20221122T115722Z
LAST-MODIFIED:20221122T115722Z
UID:4180-1682496000-1683392400@www.associationscenaristes.be
SUMMARY:CONCOURS DE SCENARIO en collaboration avec le Brussels Short Film Festival
DESCRIPTION:Bonjour à tous.te.s\, \nL’ASA organise une nouvelle fois un concours de scénario de court-métrage\, en collaboration avec le Brussels Short Film Festival\, pour offrir l’opportunité aux scénaristes de présenter un projet personnel à un jury de professionnel.le.s. \nPendant le festival\, les scénaristes sélectionné.e.s auront l’occasion de participer à des séances de script doctoring encadrées par l’ASA et de rencontrer des producteur.rice.s dans le cadre du speed pitching avec\, à la clé\,  un prix de 500€ offert par l’ASA pour le.a lauréat.e du concours. \nLe festival aura lieu du 26 avril au 6 mai 2023. \nEnvie d’en être? Pour participer\, envoyez-nous votre scénario sous forme d’un document PDF avant le 15 février 2023 à 23h59\, à l’adresse suivante: concours.de.scenarios@gmail.com.  \n  \n  \n  \n
URL:http://www.associationscenaristes.be/event/concours-de-scenario-en-collaboration-avec-le-brussels-short-film-festival/
ATTACH;FMTTYPE=image/jpeg:http://www.associationscenaristes.be/wp-content/uploads/2022/11/316268301_682531486776961_1562210327957913919_n.jpg
END:VEVENT
END:VCALENDAR