BEGIN:VCALENDAR
VERSION:2.0
PRODID:-// - ECPv4.6.5//NONSGML v1.0//EN
CALSCALE:GREGORIAN
METHOD:PUBLISH
X-WR-CALNAME:
X-ORIGINAL-URL:http://www.associationscenaristes.be
X-WR-CALDESC:Events for 
BEGIN:VEVENT
DTSTART;TZID=UTC+1:20230301T080000
DTEND;TZID=UTC+1:20230630T170000
DTSTAMP:20260419T165338
CREATED:20221029T135649Z
LAST-MODIFIED:20221029T135649Z
UID:4174-1677657600-1688144400@www.associationscenaristes.be
SUMMARY:Series Mania Institute: Eureka Series & Writers Campus- Spring 2023
DESCRIPTION:Bonjour à tous.tes\, \nLe Series Mania Institute\, initiative issue du Festival Séries Mania\, fait deux appels à candidatures\, pour son programme de formation Eureka Series et son programme professionnel Writers Campus. \nVous trouverez plus d’informations quant à ces deux programmes \,délivrés en anglais\, ci-dessous\, ainsi que sur les réseaux sociaux du Festival Séries Mania (Facebook\, LinkedIn et Twitter). \nN’hésitez donc pas à postuler si vous êtes intéressé.es! \nEureka Series (Call for application now opened) \nThis 10-week training course is dedicated to emerging television drama series writers and creative producers from Europe\, willing to develop their skills and knowledge about collaborative writing and the fast changing TV series industry. \nThrough theoretical courses\, workshops\, masterclasses and case studies\, the participants benefit from the knowledge and expertise of experienced European professionals to acquire skills on TV series writing such as defining a concept\, character and season development\, and understanding of European and international TV series ecosystems. \nEureka Series takes place from March to June 2023\, in Lille (France) and remotely\, and will be delivered entirely in English. \nThe deadline to apply is December 16th. \nWriters Campus (applications opening at the beginning of november) \nThis professional week-long workshop is open to writers and creative producers worldwide\, who have had at least one professional experience on a broadcast TV/digital series\, short or feature film broadcast\, and with a project in development. \n\n
URL:http://www.associationscenaristes.be/event/series-mania-institute-eureka-series-writers-campus-spring-2023/
ATTACH;FMTTYPE=image/png:http://www.associationscenaristes.be/wp-content/uploads/2022/10/mail.png
END:VEVENT
BEGIN:VEVENT
DTSTART;TZID=UTC+1:20230515T080000
DTEND;TZID=UTC+1:20230515T170000
DTSTAMP:20260419T165338
CREATED:20230515T092138Z
LAST-MODIFIED:20230515T092138Z
UID:4278-1684137600-1684170000@www.associationscenaristes.be
SUMMARY:WGA on strike!
DESCRIPTION:Le mardi 2 mai à minuit\, les membres de la Writers Guild of America se sont mis en grève. Les scénaristes américains réclament de meilleures conditions de travail\, une rémunération plus juste et une régulation de l’IA dans le secteur audiovisuel. \nDans leur déclaration\, ils écrivent ceci : \n« L’attitude quasi inébranlable des studios et des streamers lors des négociations nous amène à conclure qu’ils veulent dévaloriser encore davantage le métier de scénariste… Leur refus de garantir un emploi hebdomadaire  aux auteurs de séries\, la création d’un « tarif journalier » pour la comédie\, … Tout indique qu’ils préféreraient perdre leurs employés\, plutôt que de les voir gagner leur vie\, et faire de chaque auteur un indépendant. \nLes scénaristes savent ceci: les entreprises ont détruit notre métier. Ils ont tant pris aux gens\, aux scénaristes\, qui les ont enrichis. Ce qu’ils ne peuvent cependant pas nous enlever\, c’est notre solidarité\, notre engagement mutuel à nous sauver nous-mêmes et à sauver ce métier que nous aimons tant. Nous aurions espéré résoudre ce problème par le dialogue. Maintenant\, nous devons agir. Pour le bien de notre présent et de notre avenir\, nous n’avons pas d’autre choix ». \nL’ASA est solidaire de ses collègues américains et tient à leur exprimer son soutien inconditionnel! \nRetrouvez ici un article de l’Echo\, dans lequel Aurélie Wijnants\, présidente de l’ASA\, décortique les enjeux qui se cachent derrière cette action. \nAvec nos collègues de la FSE et de la Scenaristengilde\, nous avons déjà mené une action de soutien devant le siège social de la Motion Picture Association à Bruxelles. On en parle ici. \nEnsemble\, exigeons plus d’équité pour les scénaristes à travers le monde! \n  \n
URL:http://www.associationscenaristes.be/event/wga-on-strike/
ATTACH;FMTTYPE=image/png:http://www.associationscenaristes.be/wp-content/uploads/2023/05/Writers-Guild-on-Strike.png
END:VEVENT
BEGIN:VEVENT
DTSTART;TZID=UTC+1:20230515T140000
DTEND;TZID=UTC+1:20230515T140000
DTSTAMP:20260419T165338
CREATED:20230505T170116Z
LAST-MODIFIED:20230505T170116Z
UID:4273-1684159200-1684159200@www.associationscenaristes.be
SUMMARY:Dernier jour pour vous inscrire à l'AG de la Sabam!
DESCRIPTION:L’assemblée générale de la Sabam se tiendra le lundi 15 mai 2023 à 14 heures au Thon Hotel à Bruxelles. \nConscients de l’importance de votre travail créatif\, la Sabam souhaite gérer au mieux vos droits d’auteur et promouvoir la reconnaissance de vos créations. Votre participation à cette assemblée générale est cruciale pour l’aider à atteindre cet objectif. \nAprès l’assemblée générale\, un drink sera offert\, où vous pourrez discuter avec d’autres membres de la Sabam et échanger des idées. \nNous espérons que vous pourrez nous rejoindre le 15 mai. \nVous êtes membre de l’ASA et affilié.e à la Sabam? Inscrivez-vous au plus tard aujourd’hui\, 5 mai 2023!  \nPour vous inscrire ou pour plus d’infos sur l’organisation de cette assemblée générale\, c’est par ici : https://www.sabam.be/fr/news/inscrivez-vous-aux-assemblees-generales-du-15-mai-2023 \n
URL:http://www.associationscenaristes.be/event/dernier-jour-pour-vous-inscrire-a-lag-de-la-sabam/
ATTACH;FMTTYPE=image/jpeg:http://www.associationscenaristes.be/wp-content/uploads/2021/05/sabam-for_culture-color-rgb@2x.jpg
END:VEVENT
BEGIN:VEVENT
DTSTART;TZID=UTC+1:20230515T180000
DTEND;TZID=UTC+1:20230515T180000
DTSTAMP:20260419T165338
CREATED:20230502T160906Z
LAST-MODIFIED:20230502T160906Z
UID:4270-1684173600-1684173600@www.associationscenaristes.be
SUMMARY:Vlaamse Klasse #2: Dertigers / Trentenaires
DESCRIPTION:Quel est le secret derrière le succès phénomène de Dertigers ? Comment cette série s’est-elle imposée et a-t-elle révolutionné le paysage audiovisuel flamand ? Quelles en sont les techniques d’écriture et de réalisation innovantes ? Comment l’adaptation francophone de ce phénomène a-t-elle été menée ? \nVlaamse Klasse #2 : DERTIGERS / TRENTENAIRES\nRencontre avec WIM DE SMET\, créateur et showrunner de Dertigers\, et CAMILLE DIDION\, scénariste de Trentenaires.\n\nLundi 15/05/2023 à 18h00 @Sabam\, Rue des Deux Eglises 41-43\, 1000 Bruxelles.\n\nRéservation à info.associationscenaristes@gmail.com (55 places disponibles)!\n\nVlaamse Klasse est une initiative de l’ASA qui explore le paysage audiovisuel flamand. Avec la collaboration de la Sabam et l’ARFF.\n
URL:http://www.associationscenaristes.be/event/vlaamse-klasse-2-dertigers-trentenaires/
ATTACH;FMTTYPE=image/png:http://www.associationscenaristes.be/wp-content/uploads/2023/05/2023-05-02.png
END:VEVENT
END:VCALENDAR